BEGIN:VCALENDAR
VERSION:2.0
PRODID:-//Bad Bocklet - ECPv6.15.19//NONSGML v1.0//EN
CALSCALE:GREGORIAN
METHOD:PUBLISH
X-WR-CALNAME:Bad Bocklet
X-ORIGINAL-URL:https://badbocklet.de
X-WR-CALDESC:Veranstaltungen für Bad Bocklet
REFRESH-INTERVAL;VALUE=DURATION:PT1H
X-Robots-Tag:noindex
X-PUBLISHED-TTL:PT1H
BEGIN:VTIMEZONE
TZID:Europe/Berlin
BEGIN:DAYLIGHT
TZOFFSETFROM:+0100
TZOFFSETTO:+0200
TZNAME:CEST
DTSTART:20220327T010000
END:DAYLIGHT
BEGIN:STANDARD
TZOFFSETFROM:+0200
TZOFFSETTO:+0100
TZNAME:CET
DTSTART:20221030T010000
END:STANDARD
BEGIN:DAYLIGHT
TZOFFSETFROM:+0100
TZOFFSETTO:+0200
TZNAME:CEST
DTSTART:20230326T010000
END:DAYLIGHT
BEGIN:STANDARD
TZOFFSETFROM:+0200
TZOFFSETTO:+0100
TZNAME:CET
DTSTART:20231029T010000
END:STANDARD
BEGIN:DAYLIGHT
TZOFFSETFROM:+0100
TZOFFSETTO:+0200
TZNAME:CEST
DTSTART:20240331T010000
END:DAYLIGHT
BEGIN:STANDARD
TZOFFSETFROM:+0200
TZOFFSETTO:+0100
TZNAME:CET
DTSTART:20241027T010000
END:STANDARD
BEGIN:DAYLIGHT
TZOFFSETFROM:+0100
TZOFFSETTO:+0200
TZNAME:CEST
DTSTART:20250330T010000
END:DAYLIGHT
BEGIN:STANDARD
TZOFFSETFROM:+0200
TZOFFSETTO:+0100
TZNAME:CET
DTSTART:20251026T010000
END:STANDARD
BEGIN:DAYLIGHT
TZOFFSETFROM:+0100
TZOFFSETTO:+0200
TZNAME:CEST
DTSTART:20260329T010000
END:DAYLIGHT
BEGIN:STANDARD
TZOFFSETFROM:+0200
TZOFFSETTO:+0100
TZNAME:CET
DTSTART:20261025T010000
END:STANDARD
BEGIN:DAYLIGHT
TZOFFSETFROM:+0100
TZOFFSETTO:+0200
TZNAME:CEST
DTSTART:20270328T010000
END:DAYLIGHT
BEGIN:STANDARD
TZOFFSETFROM:+0200
TZOFFSETTO:+0100
TZNAME:CET
DTSTART:20271031T010000
END:STANDARD
END:VTIMEZONE
BEGIN:VEVENT
DTSTART;TZID=Europe/Berlin:20260130T190000
DTEND;TZID=Europe/Berlin:20260130T203000
DTSTAMP:20260421T015534
CREATED:20251223T143804Z
LAST-MODIFIED:20251223T143804Z
UID:10014268-1769799600-1769805000@badbocklet.de
SUMMARY:Jahreshauptversammlung
DESCRIPTION:1. Bad Bockleter Bootsclub
URL:https://badbocklet.de/event/jahreshauptversammlung-44/
LOCATION:Restaurant Laudensack\, Von-Hutten-Straße 37\, Bad Bocklet\, 97708\, Deutschland
CATEGORIES:Gemeinde
ATTACH;FMTTYPE=image/jpeg:https://badbocklet.de/wp-content/uploads/boot.jpg
END:VEVENT
BEGIN:VEVENT
DTSTART;TZID=Europe/Berlin:20240126T190000
DTEND;TZID=Europe/Berlin:20240126T203000
DTSTAMP:20260421T015534
CREATED:20231201T112622Z
LAST-MODIFIED:20231201T112622Z
UID:10006540-1706295600-1706301000@badbocklet.de
SUMMARY:Jahreshauptversammlung
DESCRIPTION:1. Bad Bockleter Bootsclub
URL:https://badbocklet.de/event/jahreshauptversammlung-25/
LOCATION:Restaurant Laudensack\, Von-Hutten-Straße 37\, Bad Bocklet\, 97708\, Deutschland
CATEGORIES:Gemeinde
ATTACH;FMTTYPE=image/jpeg:https://badbocklet.de/wp-content/uploads/boot.jpg
END:VEVENT
BEGIN:VEVENT
DTSTART;TZID=Europe/Berlin:20230127T200000
DTEND;TZID=Europe/Berlin:20230127T220000
DTSTAMP:20260421T015534
CREATED:20221208T153955Z
LAST-MODIFIED:20221208T153955Z
UID:10004719-1674849600-1674856800@badbocklet.de
SUMMARY:Jahreshauptversammlung
DESCRIPTION:Bootsclub
URL:https://badbocklet.de/event/jahreshauptversammlung-9/
LOCATION:Restaurant Laudensack\, Von-Hutten-Straße 37\, Bad Bocklet\, 97708\, Deutschland
CATEGORIES:Gemeinde
ATTACH;FMTTYPE=image/jpeg:https://badbocklet.de/wp-content/uploads/boot.jpg
END:VEVENT
END:VCALENDAR