BEGIN:VCALENDAR
VERSION:2.0
PRODID:-//Bad Bocklet - ECPv6.15.19//NONSGML v1.0//EN
CALSCALE:GREGORIAN
METHOD:PUBLISH
X-WR-CALNAME:Bad Bocklet
X-ORIGINAL-URL:https://badbocklet.de
X-WR-CALDESC:Veranstaltungen für Bad Bocklet
REFRESH-INTERVAL;VALUE=DURATION:PT1H
X-Robots-Tag:noindex
X-PUBLISHED-TTL:PT1H
BEGIN:VTIMEZONE
TZID:Europe/Berlin
BEGIN:DAYLIGHT
TZOFFSETFROM:+0100
TZOFFSETTO:+0200
TZNAME:CEST
DTSTART:20240331T010000
END:DAYLIGHT
BEGIN:STANDARD
TZOFFSETFROM:+0200
TZOFFSETTO:+0100
TZNAME:CET
DTSTART:20241027T010000
END:STANDARD
BEGIN:DAYLIGHT
TZOFFSETFROM:+0100
TZOFFSETTO:+0200
TZNAME:CEST
DTSTART:20250330T010000
END:DAYLIGHT
BEGIN:STANDARD
TZOFFSETFROM:+0200
TZOFFSETTO:+0100
TZNAME:CET
DTSTART:20251026T010000
END:STANDARD
BEGIN:DAYLIGHT
TZOFFSETFROM:+0100
TZOFFSETTO:+0200
TZNAME:CEST
DTSTART:20260329T010000
END:DAYLIGHT
BEGIN:STANDARD
TZOFFSETFROM:+0200
TZOFFSETTO:+0100
TZNAME:CET
DTSTART:20261025T010000
END:STANDARD
END:VTIMEZONE
BEGIN:VEVENT
DTSTART;TZID=Europe/Berlin:20251223T193000
DTEND;TZID=Europe/Berlin:20251223T210000
DTSTAMP:20260422T201906
CREATED:20250408T065906Z
LAST-MODIFIED:20251209T090448Z
UID:37624-1766518200-1766523600@badbocklet.de
SUMMARY:Weihnachtskonzert
DESCRIPTION:„Komm nur weihnachtlicher Geist“ präsentiert vom Liederkranz Bad Bocklet e.V. und den jungen Künstlerinnen Katharina Kreuzer\, Violoncello und Kornelius Kreuzer\, Schlagwerk unter der Leitung von Hermann Freibott \nKatharina Kreuzer (17) spielt seit ihrem 7. Lebensjahr Cello. Sie feierte erste Erfolge bei „Jugend musiziert“\, hat als Jungstudentin in Regensburg und Würzburg ihre Fertigkeiten am Cello verfeinert und besucht im Moment die Berufsfachschule für Musik in Bad Königshofen mit Hauptfach Cello als Vorbereitung auf das Musikstudium. Kornelius Kreuzer (15) wollte schon als kleiner Junge Schlagzeug spielen. Dabei haben es ihm die Schlaginstrumente\, die auch Melodiespiel ermöglichen\, besonders angetan. Mit sechs Jahren erhielt er zusätzlich zu seinem Schlagzeug sein erstes Marimbaphon. Bereits mit acht Jahren gewann er das erste Mal bei „Jugend musiziert“\, weitere Erfolge bei diesem Wettbewerb folgten\, der letzte erst in diesem Jahr. Mit 13 Jahren wurde er bereits Jungstudent in München und strebt auch das Musikstudium an. \n\n		Eintrittskarten für diese Veranstaltung können Sie wie folgt erwerben: \n\nIm Vorverkauf vor Ort in der Touristinformation Bad Bocklet  09708 707030\nAn der Abendkasse am Tag der Veranstaltung\n online über unseren Ticketverkauf\n\n\n\n\n\n	 Zum Online-Ticketverkauf
URL:https://badbocklet.de/event/weihnachtskonzert-2/
LOCATION:kleiner Kursaal\, Im Kurgarten\, Bad Bocklet\, 97708\, Deutschland
CATEGORIES:Gemeinde,Tourismus
ATTACH;FMTTYPE=image/jpeg:https://badbocklet.de/wp-content/uploads/Liederkranz-Bad-Bocklet-2025Alicia-Lindenberg.jpg
END:VEVENT
END:VCALENDAR