BEGIN:VCALENDAR
VERSION:2.0
PRODID:-//Bad Bocklet - ECPv6.15.19//NONSGML v1.0//EN
CALSCALE:GREGORIAN
METHOD:PUBLISH
X-WR-CALNAME:Bad Bocklet
X-ORIGINAL-URL:https://badbocklet.de
X-WR-CALDESC:Veranstaltungen für Bad Bocklet
REFRESH-INTERVAL;VALUE=DURATION:PT1H
X-Robots-Tag:noindex
X-PUBLISHED-TTL:PT1H
BEGIN:VTIMEZONE
TZID:Europe/Berlin
BEGIN:DAYLIGHT
TZOFFSETFROM:+0100
TZOFFSETTO:+0200
TZNAME:CEST
DTSTART:20240331T010000
END:DAYLIGHT
BEGIN:STANDARD
TZOFFSETFROM:+0200
TZOFFSETTO:+0100
TZNAME:CET
DTSTART:20241027T010000
END:STANDARD
BEGIN:DAYLIGHT
TZOFFSETFROM:+0100
TZOFFSETTO:+0200
TZNAME:CEST
DTSTART:20250330T010000
END:DAYLIGHT
BEGIN:STANDARD
TZOFFSETFROM:+0200
TZOFFSETTO:+0100
TZNAME:CET
DTSTART:20251026T010000
END:STANDARD
BEGIN:DAYLIGHT
TZOFFSETFROM:+0100
TZOFFSETTO:+0200
TZNAME:CEST
DTSTART:20260329T010000
END:DAYLIGHT
BEGIN:STANDARD
TZOFFSETFROM:+0200
TZOFFSETTO:+0100
TZNAME:CET
DTSTART:20261025T010000
END:STANDARD
END:VTIMEZONE
BEGIN:VEVENT
DTSTART;TZID=Europe/Berlin:20251206T160000
DTEND;TZID=Europe/Berlin:20251206T230000
DTSTAMP:20260422T203655
CREATED:20250423T093055Z
LAST-MODIFIED:20250423T093055Z
UID:37802-1765036800-1765062000@badbocklet.de
SUMMARY:Vorweihnachtliche Feier
DESCRIPTION:FFW Hohn
URL:https://badbocklet.de/event/vorweihnachtliche-feier-6/
LOCATION:Haus der Dorfgemeinschaft Hohn\, Weinbergstraße 12\, Bad Bocklet\, Bayern\, 97708\, Deutschland
CATEGORIES:Gemeinde
ATTACH;FMTTYPE=image/jpeg:https://badbocklet.de/wp-content/uploads/weihnachten-christbaumkugeln.jpg
GEO:50.28028;10.08062
X-APPLE-STRUCTURED-LOCATION;VALUE=URI;X-ADDRESS=Haus der Dorfgemeinschaft Hohn Weinbergstraße 12 Bad Bocklet Bayern 97708 Deutschland;X-APPLE-RADIUS=500;X-TITLE=Weinbergstraße 12:geo:10.08062,50.28028
END:VEVENT
END:VCALENDAR