BEGIN:VCALENDAR
VERSION:2.0
PRODID:-//Bad Bocklet - ECPv6.15.19//NONSGML v1.0//EN
CALSCALE:GREGORIAN
METHOD:PUBLISH
X-WR-CALNAME:Bad Bocklet
X-ORIGINAL-URL:https://badbocklet.de
X-WR-CALDESC:Veranstaltungen für Bad Bocklet
REFRESH-INTERVAL;VALUE=DURATION:PT1H
X-Robots-Tag:noindex
X-PUBLISHED-TTL:PT1H
BEGIN:VTIMEZONE
TZID:Europe/Berlin
BEGIN:DAYLIGHT
TZOFFSETFROM:+0100
TZOFFSETTO:+0200
TZNAME:CEST
DTSTART:20240331T010000
END:DAYLIGHT
BEGIN:STANDARD
TZOFFSETFROM:+0200
TZOFFSETTO:+0100
TZNAME:CET
DTSTART:20241027T010000
END:STANDARD
BEGIN:DAYLIGHT
TZOFFSETFROM:+0100
TZOFFSETTO:+0200
TZNAME:CEST
DTSTART:20250330T010000
END:DAYLIGHT
BEGIN:STANDARD
TZOFFSETFROM:+0200
TZOFFSETTO:+0100
TZNAME:CET
DTSTART:20251026T010000
END:STANDARD
BEGIN:DAYLIGHT
TZOFFSETFROM:+0100
TZOFFSETTO:+0200
TZNAME:CEST
DTSTART:20260329T010000
END:DAYLIGHT
BEGIN:STANDARD
TZOFFSETFROM:+0200
TZOFFSETTO:+0100
TZNAME:CET
DTSTART:20261025T010000
END:STANDARD
END:VTIMEZONE
BEGIN:VEVENT
DTSTART;TZID=Europe/Berlin:20251005T190000
DTEND;TZID=Europe/Berlin:20251005T203000
DTSTAMP:20260423T004646
CREATED:20241014T092318Z
LAST-MODIFIED:20250901T135651Z
UID:34744-1759690800-1759696200@badbocklet.de
SUMMARY:Vollmondwaldbaden
DESCRIPTION:mit Anette Appel \nWaldbaden bei Vollmond ist ein magisches Erlebnis\, bei dem die Welt in silbernem Licht erstrahlt und man die Natur auf eine ganz neue intensive Weise spürt.  \nDie friedvolle Umgebung lädt zum entspannen und neuer Energie tanken auf.  \nSpannende Fakten und mystische Geschichten machen die Exkursion zu einem tollen Erlebnis. \nAnmeldung in der Touristinfo  09708 707030 erforderlich!
URL:https://badbocklet.de/event/vollmondwaldbaden-10/
LOCATION:Brunnenbau im Kurpark\, Bad Bocklet\, Deutschland
CATEGORIES:Gemeinde,Tourismus
ATTACH;FMTTYPE=image/jpeg:https://badbocklet.de/wp-content/uploads/Pixabay-Mond-Wald-1.jpg
END:VEVENT
END:VCALENDAR