BEGIN:VCALENDAR
VERSION:2.0
PRODID:-//Bad Bocklet - ECPv6.15.19//NONSGML v1.0//EN
CALSCALE:GREGORIAN
METHOD:PUBLISH
X-WR-CALNAME:Bad Bocklet
X-ORIGINAL-URL:https://badbocklet.de
X-WR-CALDESC:Veranstaltungen für Bad Bocklet
REFRESH-INTERVAL;VALUE=DURATION:PT1H
X-Robots-Tag:noindex
X-PUBLISHED-TTL:PT1H
BEGIN:VTIMEZONE
TZID:Europe/Berlin
BEGIN:DAYLIGHT
TZOFFSETFROM:+0100
TZOFFSETTO:+0200
TZNAME:CEST
DTSTART:20240331T010000
END:DAYLIGHT
BEGIN:STANDARD
TZOFFSETFROM:+0200
TZOFFSETTO:+0100
TZNAME:CET
DTSTART:20241027T010000
END:STANDARD
BEGIN:DAYLIGHT
TZOFFSETFROM:+0100
TZOFFSETTO:+0200
TZNAME:CEST
DTSTART:20250330T010000
END:DAYLIGHT
BEGIN:STANDARD
TZOFFSETFROM:+0200
TZOFFSETTO:+0100
TZNAME:CET
DTSTART:20251026T010000
END:STANDARD
BEGIN:DAYLIGHT
TZOFFSETFROM:+0100
TZOFFSETTO:+0200
TZNAME:CEST
DTSTART:20260329T010000
END:DAYLIGHT
BEGIN:STANDARD
TZOFFSETFROM:+0200
TZOFFSETTO:+0100
TZNAME:CET
DTSTART:20261025T010000
END:STANDARD
END:VTIMEZONE
BEGIN:VEVENT
DTSTART;TZID=Europe/Berlin:20251027T190000
DTEND;TZID=Europe/Berlin:20251027T203000
DTSTAMP:20260422T215415
CREATED:20251002T131426Z
LAST-MODIFIED:20251007T060910Z
UID:39113-1761591600-1761597000@badbocklet.de
SUMMARY:UNTERWEGS IM INDISCHEN HIMALAYA    (252-11030KB)
DESCRIPTION:Unterwegs im indischen Himalaya – ein Mönch aus Ladakh zeigt uns seine Heimat \nIrgendwann 2018 kam den Globetrotter-Freunden Heinz Zimmer aus Saarbrücken und Rudi Kleinhenz aus Bad Kissingen die Idee\, das höchstgelegene Globetrottertreffen der Welt zu veranstalten. Heinz hat schon vor Jahrzehnten Freundschaften in dieser Region der Welt geschlossen. Eine davon ist Lama Konchog Samten\, der sofort im Boot war und den beiden Deutschen eine tolle Reise durch seine Heimat anbot. Mit insgesamt 15 Teilnehmern\, die meisten sind Mitglieder der Dt. Zentrale für Globetrotter (dzg)\, eigentlich individuell allein Reisende\, traf man sich in Leh\, der Hauptstadt von Ladakh. Das zur selben Zeit auch der Dalai Lama in Leh erwartet wurde\, war ein Höhepunkt der ganz besonderen Art schon fest eingeplant. Mit 4 Taxis wurden dann 1.500 km in Höhen weit über 3.000 m zurückgelegt. Höhepunkt der Reise im wahrsten Sinn des Wortes der mit 5.359 m dritthöchste befahrbare Pass der Welt. Durch Lama Samten bekam die Gruppe einzigartige Einblicke in Kultur\, Religion und Leben der Menschen vor Ort. Es war nicht nur für Rudi Kleinhenz\, der damals schon 160 andere Länder der Erde bereist hatte\, ein wirklich außergewöhnlicher Trip in eine fremde faszinierende Welt hoch über den Wolken! \nReferent: Rudi Kleinhenz\nKostenfrei – Anmeldung erbeten \nAnmeldung über Anmeldeformular:\nAnmeldeformular VHS-Kurse \noder direkt über die Homepage \nAnsprechpartnerin:\nFrau Christa Bauer\n 09708912227\n vorzimmer@bad.bocklet.de
URL:https://badbocklet.de/event/unterwegs-im-indischen-himalaya-252-11030kb/
LOCATION:HESCURO KLINIK Bad Bocklet\, Frankenstraße 36\, Bad Bocklet\, 97708\, Deutschland
CATEGORIES:Gemeinde,Tourismus
ATTACH;FMTTYPE=image/jpeg:https://badbocklet.de/wp-content/uploads/Ladakh-Kopie.jpg
ORGANIZER;CN="Volkshochschule Bad Kissingen und Hammelburg - VHS":MAILTO:volkshochschule@badbocklet.de
GEO:50.2708001;10.0804501
X-APPLE-STRUCTURED-LOCATION;VALUE=URI;X-ADDRESS=HESCURO KLINIK Bad Bocklet Frankenstraße 36 Bad Bocklet 97708 Deutschland;X-APPLE-RADIUS=500;X-TITLE=Frankenstraße 36:geo:10.0804501,50.2708001
END:VEVENT
END:VCALENDAR