BEGIN:VCALENDAR
VERSION:2.0
PRODID:-//Bad Bocklet - ECPv6.15.19//NONSGML v1.0//EN
CALSCALE:GREGORIAN
METHOD:PUBLISH
X-WR-CALNAME:Bad Bocklet
X-ORIGINAL-URL:https://badbocklet.de
X-WR-CALDESC:Veranstaltungen für Bad Bocklet
REFRESH-INTERVAL;VALUE=DURATION:PT1H
X-Robots-Tag:noindex
X-PUBLISHED-TTL:PT1H
BEGIN:VTIMEZONE
TZID:Europe/Berlin
BEGIN:DAYLIGHT
TZOFFSETFROM:+0100
TZOFFSETTO:+0200
TZNAME:CEST
DTSTART:20250330T010000
END:DAYLIGHT
BEGIN:STANDARD
TZOFFSETFROM:+0200
TZOFFSETTO:+0100
TZNAME:CET
DTSTART:20251026T010000
END:STANDARD
BEGIN:DAYLIGHT
TZOFFSETFROM:+0100
TZOFFSETTO:+0200
TZNAME:CEST
DTSTART:20260329T010000
END:DAYLIGHT
BEGIN:STANDARD
TZOFFSETFROM:+0200
TZOFFSETTO:+0100
TZNAME:CET
DTSTART:20261025T010000
END:STANDARD
BEGIN:DAYLIGHT
TZOFFSETFROM:+0100
TZOFFSETTO:+0200
TZNAME:CEST
DTSTART:20270328T010000
END:DAYLIGHT
BEGIN:STANDARD
TZOFFSETFROM:+0200
TZOFFSETTO:+0100
TZNAME:CET
DTSTART:20271031T010000
END:STANDARD
END:VTIMEZONE
BEGIN:VEVENT
DTSTART;TZID=Europe/Berlin:20260809T153000
DTEND;TZID=Europe/Berlin:20260809T170000
DTSTAMP:20260422T151427
CREATED:20251124T150154Z
LAST-MODIFIED:20251124T150154Z
UID:40130-1786289400-1786294800@badbocklet.de
SUMMARY:Unterhaltung
DESCRIPTION:mit den Alphornbläsern Schwarze Berge \nSeit 1998 klingen die sanften und weichen Töne der Alphörner über die Kuppen der Rhön und sind – je nach Standort – über 10 Kilometer weit zu hören. \nDie Alphornbläser sind aktuell 11 Musiker aus den 3 Bundesländern der Rhön\, die sich zusammen gefunden haben\, um aus Spaß an der Freud‘ unter dem Motto „Musik verbindet“ länderübergreifend die Alphornmusik zu pflegen.  \nDas Repertoire umfasst traditionelle Schweizer und Allgäuer Alphornstücke aber auch modernere deutsche und Schweizer Musikstücke für Alphorn. Vom getragenen Choral bis zum Blues – alles ist möglich!
URL:https://badbocklet.de/event/unterhaltung-2/
LOCATION:Kursaal
CATEGORIES:Tourismus
ATTACH;FMTTYPE=image/jpeg:https://badbocklet.de/wp-content/uploads/Alphornblaeser-Schwarze-BergeSteffen-Hirschmann10.jpg
GEO:50.2656951;10.0775505
END:VEVENT
END:VCALENDAR