BEGIN:VCALENDAR
VERSION:2.0
PRODID:-//Bad Bocklet - ECPv6.15.19//NONSGML v1.0//EN
CALSCALE:GREGORIAN
METHOD:PUBLISH
X-WR-CALNAME:Bad Bocklet
X-ORIGINAL-URL:https://badbocklet.de
X-WR-CALDESC:Veranstaltungen für Bad Bocklet
REFRESH-INTERVAL;VALUE=DURATION:PT1H
X-Robots-Tag:noindex
X-PUBLISHED-TTL:PT1H
BEGIN:VTIMEZONE
TZID:Europe/Berlin
BEGIN:DAYLIGHT
TZOFFSETFROM:+0100
TZOFFSETTO:+0200
TZNAME:CEST
DTSTART:20250330T010000
END:DAYLIGHT
BEGIN:STANDARD
TZOFFSETFROM:+0200
TZOFFSETTO:+0100
TZNAME:CET
DTSTART:20251026T010000
END:STANDARD
BEGIN:DAYLIGHT
TZOFFSETFROM:+0100
TZOFFSETTO:+0200
TZNAME:CEST
DTSTART:20260329T010000
END:DAYLIGHT
BEGIN:STANDARD
TZOFFSETFROM:+0200
TZOFFSETTO:+0100
TZNAME:CET
DTSTART:20261025T010000
END:STANDARD
BEGIN:DAYLIGHT
TZOFFSETFROM:+0100
TZOFFSETTO:+0200
TZNAME:CEST
DTSTART:20270328T010000
END:DAYLIGHT
BEGIN:STANDARD
TZOFFSETFROM:+0200
TZOFFSETTO:+0100
TZNAME:CET
DTSTART:20271031T010000
END:STANDARD
END:VTIMEZONE
BEGIN:VEVENT
DTSTART;TZID=Europe/Berlin:20260304T193000
DTEND;TZID=Europe/Berlin:20260304T203000
DTSTAMP:20260422T175657
CREATED:20260204T104343Z
LAST-MODIFIED:20260204T104343Z
UID:41520-1772652600-1772656200@badbocklet.de
SUMMARY:Tinte und Schwert
DESCRIPTION:Lesung mit Matthias Soeder\, Autor der historischen Romanserie \n„Rennt!“\, schrie sie. Es war zu spät. Wie eine Horde entfesselter Bestien kamen die Fremden angestürmt.  \nHerbst 1618\, Bistum Würzburg. Der Dreißigjährige Krieg ist erwacht. \nNach einem brutalen Überfall verschleppen Söldner den jungen Priesteranwärter Jacob Wolffen nach Böhmen. In der Armee von General Mansfeld wird er zum Schanzdienst gezwungen. Knapp dem Tod entkommen\, erkennt Jacob seine göttliche Aufgabe: Er muss seine Familie rächen und den skrupellosen Leutnant Heinrich von Hohenfels mitsamt seinen blutrünstigen Schergen töten. Eine scheinbar unlösbare Aufgabe\, doch die junge Anna Dillenberger\, die sich mit Heilkunst auskennt\, unter- stützt ihn mit scharfem Verstand und unerschrockenem Mut.\nDürfen Anna und Jacob Todsünden begehen\, um die finsteren Mächte zu bezwingen?\n„Je genauer du hinschaust\, desto weniger siehst du. Dich zu töten\, wäre ein Kinderspiel gewesen.“
URL:https://badbocklet.de/event/tinte-und-schwert/
LOCATION:Bücher Pavillon\, An der Promenade 1\, Bad Bocklet\, 97708\, Deutschland
CATEGORIES:Gemeinde,Tourismus
ATTACH;FMTTYPE=image/jpeg:https://badbocklet.de/wp-content/uploads/2026-03-04-Lesung.jpg
ORGANIZER;CN="B%C3%BCcher Pavillon":MAILTO:service@buecher-pavillon.de
END:VEVENT
END:VCALENDAR