BEGIN:VCALENDAR
VERSION:2.0
PRODID:-//Bad Bocklet - ECPv6.15.19//NONSGML v1.0//EN
CALSCALE:GREGORIAN
METHOD:PUBLISH
X-WR-CALNAME:Bad Bocklet
X-ORIGINAL-URL:https://badbocklet.de
X-WR-CALDESC:Veranstaltungen für Bad Bocklet
REFRESH-INTERVAL;VALUE=DURATION:PT1H
X-Robots-Tag:noindex
X-PUBLISHED-TTL:PT1H
BEGIN:VTIMEZONE
TZID:Europe/Berlin
BEGIN:DAYLIGHT
TZOFFSETFROM:+0100
TZOFFSETTO:+0200
TZNAME:CEST
DTSTART:20240331T010000
END:DAYLIGHT
BEGIN:STANDARD
TZOFFSETFROM:+0200
TZOFFSETTO:+0100
TZNAME:CET
DTSTART:20241027T010000
END:STANDARD
BEGIN:DAYLIGHT
TZOFFSETFROM:+0100
TZOFFSETTO:+0200
TZNAME:CEST
DTSTART:20250330T010000
END:DAYLIGHT
BEGIN:STANDARD
TZOFFSETFROM:+0200
TZOFFSETTO:+0100
TZNAME:CET
DTSTART:20251026T010000
END:STANDARD
BEGIN:DAYLIGHT
TZOFFSETFROM:+0100
TZOFFSETTO:+0200
TZNAME:CEST
DTSTART:20260329T010000
END:DAYLIGHT
BEGIN:STANDARD
TZOFFSETFROM:+0200
TZOFFSETTO:+0100
TZNAME:CET
DTSTART:20261025T010000
END:STANDARD
END:VTIMEZONE
BEGIN:VEVENT
DTSTART;TZID=Europe/Berlin:20250503T140000
DTEND;TZID=Europe/Berlin:20250503T200000
DTSTAMP:20260422T192937
CREATED:20250407T092321Z
LAST-MODIFIED:20250416T105101Z
UID:37608-1746280800-1746302400@badbocklet.de
SUMMARY:Tag des Kartenspiels
DESCRIPTION:„Wer mischt?“ „Muss ich aussetzen?“ „Ist das mein Stich?“ „Wer kommt raus?“ \nAm 03. Mai ab 14 Uhr ist „Tag des Kartenspiels“ im kleinen Kursaal Bad Bocklet. \nBekannte sowie neue Kartenspiele wie Phase 10\, 6 nimmt\, Skyjo\, aber auch Schnauz\, Canasta und Rommee und einiges mehr erwartet Sie. \nKarten-Spielbegeisterte sind recht herzlich zum „karteln“ in den kleinen Kursaal Bad Bocklet eingeladen. Ab 16 Uhr findet unser bekanntes Wizardturnier statt. \nWir freuen uns auf einen verspielten Nachmittag. Spaß soll wie immer im Mittelpunkt stehen\, auch wenn es an den Tischen mal etwas turbulenter zugeht! \nEine Anmeldung ist nicht erforderlich!
URL:https://badbocklet.de/event/tag-des-kartenspiels/
LOCATION:kleiner Kursaal\, Im Kurgarten\, Bad Bocklet\, 97708\, Deutschland
CATEGORIES:Gemeinde,Tourismus
ATTACH;FMTTYPE=image/jpeg:https://badbocklet.de/wp-content/uploads/Kartenspieltag-BadBocklet-2025Michael-Keim.jpg
END:VEVENT
END:VCALENDAR