BEGIN:VCALENDAR
VERSION:2.0
PRODID:-//Bad Bocklet - ECPv6.15.19//NONSGML v1.0//EN
CALSCALE:GREGORIAN
METHOD:PUBLISH
X-WR-CALNAME:Bad Bocklet
X-ORIGINAL-URL:https://badbocklet.de
X-WR-CALDESC:Veranstaltungen für Bad Bocklet
REFRESH-INTERVAL;VALUE=DURATION:PT1H
X-Robots-Tag:noindex
X-PUBLISHED-TTL:PT1H
BEGIN:VTIMEZONE
TZID:Europe/Berlin
BEGIN:DAYLIGHT
TZOFFSETFROM:+0100
TZOFFSETTO:+0200
TZNAME:CEST
DTSTART:20250330T010000
END:DAYLIGHT
BEGIN:STANDARD
TZOFFSETFROM:+0200
TZOFFSETTO:+0100
TZNAME:CET
DTSTART:20251026T010000
END:STANDARD
BEGIN:DAYLIGHT
TZOFFSETFROM:+0100
TZOFFSETTO:+0200
TZNAME:CEST
DTSTART:20260329T010000
END:DAYLIGHT
BEGIN:STANDARD
TZOFFSETFROM:+0200
TZOFFSETTO:+0100
TZNAME:CET
DTSTART:20261025T010000
END:STANDARD
BEGIN:DAYLIGHT
TZOFFSETFROM:+0100
TZOFFSETTO:+0200
TZNAME:CEST
DTSTART:20270328T010000
END:DAYLIGHT
BEGIN:STANDARD
TZOFFSETFROM:+0200
TZOFFSETTO:+0100
TZNAME:CET
DTSTART:20271031T010000
END:STANDARD
END:VTIMEZONE
BEGIN:VEVENT
DTSTART;TZID=Europe/Berlin:20260520T190000
DTEND;TZID=Europe/Berlin:20260520T203000
DTSTAMP:20260423T162253
CREATED:20260423T083523Z
LAST-MODIFIED:20260423T083523Z
UID:42307-1779303600-1779309000@badbocklet.de
SUMMARY:Romantik meets Hoffnung
DESCRIPTION:Lesung mit den Autorinnen Phillippa Penn und Leni Kraus \nAm 20. Mai 2026 um 19 Uhr lädt der Bücher Pavillon zu einem besonderen literarischen Abend ein. \nFreuen Sie sich auf eine gemeinsame Lesung mit Phillippa Penn und Leni Kraus – zwei Autorinnen\, die mit ihren Geschichten berühren\, inspirieren und zum Träumen einladen. \nPhillippa Penn präsentiert ihren Roman „Piper House“\, eine atmosphärische Erzählung voller Geheimnisse\, Emotionen und unerwarteter Wendungen. Tauchen Sie ein in eine Welt\, die lange nachhallt. \nLeni Kraus liest aus ihrem Buch „Ich glaub an deine Träume“\, einer einfühlsamen Geschichte über Mut\, Hoffnung und den Glauben an sich selbst – ein Werk\, das das Herz bewegt und Kraft schenkt. \nErleben Sie einen Abend voller Literatur\, Begegnung und besonderer Momente. Im Anschluss an die Lesung besteht die Möglichkeit zum Gespräch mit den Autorinnen. \nWir freuen uns auf Ihr Kommen! \nUm Anmeldung wird gebeten unter  09708/705024 oder  service@buecher-pavillon.de
URL:https://badbocklet.de/event/romantik-meets-hoffnung/
LOCATION:Bücher Pavillon\, An der Promenade 1\, Bad Bocklet\, 97708\, Deutschland
CATEGORIES:Gemeinde,Tourismus
ATTACH;FMTTYPE=image/jpeg:https://badbocklet.de/wp-content/uploads/Lesung-Buecher-Paviilon-200526.jpg
ORGANIZER;CN="B%C3%BCcher Pavillon":MAILTO:service@buecher-pavillon.de
END:VEVENT
END:VCALENDAR