BEGIN:VCALENDAR
VERSION:2.0
PRODID:-//Bad Bocklet - ECPv6.15.19//NONSGML v1.0//EN
CALSCALE:GREGORIAN
METHOD:PUBLISH
X-WR-CALNAME:Bad Bocklet
X-ORIGINAL-URL:https://badbocklet.de
X-WR-CALDESC:Veranstaltungen für Bad Bocklet
REFRESH-INTERVAL;VALUE=DURATION:PT1H
X-Robots-Tag:noindex
X-PUBLISHED-TTL:PT1H
BEGIN:VTIMEZONE
TZID:Europe/Berlin
BEGIN:DAYLIGHT
TZOFFSETFROM:+0100
TZOFFSETTO:+0200
TZNAME:CEST
DTSTART:20240331T010000
END:DAYLIGHT
BEGIN:STANDARD
TZOFFSETFROM:+0200
TZOFFSETTO:+0100
TZNAME:CET
DTSTART:20241027T010000
END:STANDARD
BEGIN:DAYLIGHT
TZOFFSETFROM:+0100
TZOFFSETTO:+0200
TZNAME:CEST
DTSTART:20250330T010000
END:DAYLIGHT
BEGIN:STANDARD
TZOFFSETFROM:+0200
TZOFFSETTO:+0100
TZNAME:CET
DTSTART:20251026T010000
END:STANDARD
BEGIN:DAYLIGHT
TZOFFSETFROM:+0100
TZOFFSETTO:+0200
TZNAME:CEST
DTSTART:20260329T010000
END:DAYLIGHT
BEGIN:STANDARD
TZOFFSETFROM:+0200
TZOFFSETTO:+0100
TZNAME:CET
DTSTART:20261025T010000
END:STANDARD
END:VTIMEZONE
BEGIN:VEVENT
DTSTART;TZID=Europe/Berlin:20250625T193000
DTEND;TZID=Europe/Berlin:20250625T213000
DTSTAMP:20260422T151316
CREATED:20250206T103555Z
LAST-MODIFIED:20250515T082504Z
UID:36944-1750879800-1750887000@badbocklet.de
SUMMARY:Open AIR
DESCRIPTION:Opernabend mit Mitglieder des Internationalen Opernstudios der Staatsoper unter den Linden aus Berlin: \nMaria Kokareva Sopran\nSandra Laagus Mezzosopran\nJunho Hwang Tenor\nTaehan Kim Bariton\nMarkus Zugehör Klavier\nKlaus Christian Schreiber Moderation \nBei schlechtem Wetter im Rossini-Saal Bad Kissingen \nVorab exklusive Schlossführungen in den Museen Schloss Aschach:\nAls Gast des Kissinger Sommer Open Air-Konzerts im Schlosspark der Museen Schloss Aschach am 25. Juni 2024 um 19.30 Uhr haben Sie die Möglichkeit\, vorab an einer kostenfreien Führung durch das Graf-Luxburg-Museum teilzunehmen. Von 18.00 Uhr bis 19.00 Uhr finden parallel zwei Führungen statt. Dabei erhalten Sie einen Einblick in die Zeit zwischen 1874 und 1967\, in der zwei Generationen der gräflichen Familie von Luxburg auf Schloss Aschach verbrachten. Erleben Sie bei einem Rundgang durch die historischen Räumlichkeiten ein Stück Schlossgeschichte!  \nAufgrund der begrenzten Teilnehmerzahl ist eine vorherige Anmeldung unter 09708/704188 20 oder schloss.aschach@bezirk-unterfranken.de erforderlich. Sie werden gebeten\, Ihr Konzertticket bei Führungsbeginn vorzuzeigen. \nEintrittskarten erhalten Sie unter www.kissingersommer.de \nFür Gäste und Einheimische aus Bad Bocklet\, die eine Eintrittskarte haben\, wird ein kostenfreier Busshuttle zum Schloss Aschach (bzw. bei schlechtem Wetter nach Bad Kissingen) angeboten. \nHinfahrt:  18:30 Uhr HESCURO Klinik Bad Bocklet\, 18:40 Uhr Parkplatz Aschacher Straße \nRückfahrt: 21:45 Uhr Schloss Aschach  \nAnmeldung für die Busfahrt bis 23.06.2025 bei der Touristinformation Bad Bocklet\, Tel 09708 707030 erforderlich!
URL:https://badbocklet.de/event/open-air-2/
LOCATION:Schloss Aschach\, Schloßstraße 24\, Aschach\, 97708\, Deutschland
CATEGORIES:Gemeinde,Tourismus
ATTACH;FMTTYPE=image/jpeg:https://badbocklet.de/wp-content/uploads/Open-Air-Schloss-AschachJosefine-Gloeckner.jpg
END:VEVENT
END:VCALENDAR