BEGIN:VCALENDAR
VERSION:2.0
PRODID:-//Bad Bocklet - ECPv6.15.19//NONSGML v1.0//EN
CALSCALE:GREGORIAN
METHOD:PUBLISH
X-WR-CALNAME:Bad Bocklet
X-ORIGINAL-URL:https://badbocklet.de
X-WR-CALDESC:Veranstaltungen für Bad Bocklet
REFRESH-INTERVAL;VALUE=DURATION:PT1H
X-Robots-Tag:noindex
X-PUBLISHED-TTL:PT1H
BEGIN:VTIMEZONE
TZID:Europe/Berlin
BEGIN:DAYLIGHT
TZOFFSETFROM:+0100
TZOFFSETTO:+0200
TZNAME:CEST
DTSTART:20240331T010000
END:DAYLIGHT
BEGIN:STANDARD
TZOFFSETFROM:+0200
TZOFFSETTO:+0100
TZNAME:CET
DTSTART:20241027T010000
END:STANDARD
BEGIN:DAYLIGHT
TZOFFSETFROM:+0100
TZOFFSETTO:+0200
TZNAME:CEST
DTSTART:20250330T010000
END:DAYLIGHT
BEGIN:STANDARD
TZOFFSETFROM:+0200
TZOFFSETTO:+0100
TZNAME:CET
DTSTART:20251026T010000
END:STANDARD
BEGIN:DAYLIGHT
TZOFFSETFROM:+0100
TZOFFSETTO:+0200
TZNAME:CEST
DTSTART:20260329T010000
END:DAYLIGHT
BEGIN:STANDARD
TZOFFSETFROM:+0200
TZOFFSETTO:+0100
TZNAME:CET
DTSTART:20261025T010000
END:STANDARD
END:VTIMEZONE
BEGIN:VEVENT
DTSTART;TZID=Europe/Berlin:20250328T170000
DTEND;TZID=Europe/Berlin:20250328T200000
DTSTAMP:20260422T233933
CREATED:20250206T093643Z
LAST-MODIFIED:20250211T114719Z
UID:36912-1743181200-1743192000@badbocklet.de
SUMMARY:Ölmalkurs für Anfänger
DESCRIPTION:Springbreak – Frühlingsmotive in Ölfarben \nDer Frühling steht vor der Tür! Zeit\, um sich von der bunten Farbenpracht inspirieren zu lassen und den Frühling zu sich nach Hause zu holen. In einem zweitägigen Workshop können sich kreative Köpfe am Freitag\, den 28. März 2025\, von 17.00 bis 20.00 Uhr\, und Samstag\, den 29. März 2025\, von 9.00 bis 16.00 Uhr\, künstlerisch im Ölmalkurs „Springbreak – Frühlingsmotive in Ölfarben“ der Museen Schloss Aschach ausprobieren. \nUnter fachkundiger Anleitung der Künstlerin Elke Driehsen wird viel Wissenswertes über die traditionelle Maltechnik mit Ölfarbe vermittelt und ein eigenes farbenfrohes Gemälde für zuhause gestaltet. Teilnehmende durchlaufen den Prozess vom Grundieren der Leinwände über die Motiv- und Farbauswahl bis zum fertigen Stillleben – und das vor der historischen Kulisse der Museen Schloss Aschach. Eine gemeinsame Schlossführung durch das Graf-Luxburg-Museum rundet die Veranstaltung ab. \nElke Driehsen
URL:https://badbocklet.de/event/oelmalkurs/
LOCATION:Museen Schloss Aschach\, Schloßstraße 24\, Aschach\, 97708\, Deutschland
CATEGORIES:Gemeinde,Tourismus
ATTACH;FMTTYPE=image/jpeg:https://badbocklet.de/wp-content/uploads/RoteTulpen-Foto-Elke-Driehsen.jpg
ORGANIZER;CN="Museen Schloss Aschach":MAILTO:schloss.aschach@bezirk-unterfranken.de
END:VEVENT
END:VCALENDAR