BEGIN:VCALENDAR
VERSION:2.0
PRODID:-//Bad Bocklet - ECPv6.15.19//NONSGML v1.0//EN
CALSCALE:GREGORIAN
METHOD:PUBLISH
X-WR-CALNAME:Bad Bocklet
X-ORIGINAL-URL:https://badbocklet.de
X-WR-CALDESC:Veranstaltungen für Bad Bocklet
REFRESH-INTERVAL;VALUE=DURATION:PT1H
X-Robots-Tag:noindex
X-PUBLISHED-TTL:PT1H
BEGIN:VTIMEZONE
TZID:Europe/Berlin
BEGIN:DAYLIGHT
TZOFFSETFROM:+0100
TZOFFSETTO:+0200
TZNAME:CEST
DTSTART:20240331T010000
END:DAYLIGHT
BEGIN:STANDARD
TZOFFSETFROM:+0200
TZOFFSETTO:+0100
TZNAME:CET
DTSTART:20241027T010000
END:STANDARD
BEGIN:DAYLIGHT
TZOFFSETFROM:+0100
TZOFFSETTO:+0200
TZNAME:CEST
DTSTART:20250330T010000
END:DAYLIGHT
BEGIN:STANDARD
TZOFFSETFROM:+0200
TZOFFSETTO:+0100
TZNAME:CET
DTSTART:20251026T010000
END:STANDARD
BEGIN:DAYLIGHT
TZOFFSETFROM:+0100
TZOFFSETTO:+0200
TZNAME:CEST
DTSTART:20260329T010000
END:DAYLIGHT
BEGIN:STANDARD
TZOFFSETFROM:+0200
TZOFFSETTO:+0100
TZNAME:CET
DTSTART:20261025T010000
END:STANDARD
END:VTIMEZONE
BEGIN:VEVENT
DTSTART;TZID=Europe/Berlin:20250727T151500
DTEND;TZID=Europe/Berlin:20250727T161500
DTSTAMP:20260423T034218
CREATED:20250206T111820Z
LAST-MODIFIED:20250710T121632Z
UID:36954-1753629300-1753632900@badbocklet.de
SUMMARY:Öffentliche Führung "Zu Gast bei der gräflichen Familie von Luxburg"
DESCRIPTION:Sie erhalten Einblicke in das Leben der gräflichen Familie von Luxburg. Sie bewohnte das Schloss zwischen 1874 und 1967. Die kunstsinnige Familie stattete das Schloss mit Möbeln\, kunstgewerblichen Gegenständen und Gemälden aus. Noch heute ist die originale Ausstattung erhalten. \nDie öffentliche Führung dauert eine Stunde. Die Teilnahme ist kostenfrei\, es ist lediglich der Museumseintritt zu entrichten. Interessierte können sich unter  09708/704188-20 oder  schloss.aschach@bezirk-unterfranken.de anmelden.
URL:https://badbocklet.de/event/oeffentliche-fuehrung-zu-gast-bei-der-graeflichen-familie-von-luxburg-2/
LOCATION:Museen Schloss Aschach\, Schloßstraße 24\, Aschach\, 97708\, Deutschland
CATEGORIES:Gemeinde,Tourismus
ATTACH;FMTTYPE=image/jpeg:https://badbocklet.de/wp-content/uploads/Scloss-aschachGerhard-Nixdorf.jpg
ORGANIZER;CN="Museen Schloss Aschach":MAILTO:schloss.aschach@bezirk-unterfranken.de
END:VEVENT
END:VCALENDAR