BEGIN:VCALENDAR
VERSION:2.0
PRODID:-//Bad Bocklet - ECPv6.15.19//NONSGML v1.0//EN
CALSCALE:GREGORIAN
METHOD:PUBLISH
X-WR-CALNAME:Bad Bocklet
X-ORIGINAL-URL:https://badbocklet.de
X-WR-CALDESC:Veranstaltungen für Bad Bocklet
REFRESH-INTERVAL;VALUE=DURATION:PT1H
X-Robots-Tag:noindex
X-PUBLISHED-TTL:PT1H
BEGIN:VTIMEZONE
TZID:Europe/Berlin
BEGIN:DAYLIGHT
TZOFFSETFROM:+0100
TZOFFSETTO:+0200
TZNAME:CEST
DTSTART:20240331T010000
END:DAYLIGHT
BEGIN:STANDARD
TZOFFSETFROM:+0200
TZOFFSETTO:+0100
TZNAME:CET
DTSTART:20241027T010000
END:STANDARD
BEGIN:DAYLIGHT
TZOFFSETFROM:+0100
TZOFFSETTO:+0200
TZNAME:CEST
DTSTART:20250330T010000
END:DAYLIGHT
BEGIN:STANDARD
TZOFFSETFROM:+0200
TZOFFSETTO:+0100
TZNAME:CET
DTSTART:20251026T010000
END:STANDARD
BEGIN:DAYLIGHT
TZOFFSETFROM:+0100
TZOFFSETTO:+0200
TZNAME:CEST
DTSTART:20260329T010000
END:DAYLIGHT
BEGIN:STANDARD
TZOFFSETFROM:+0200
TZOFFSETTO:+0100
TZNAME:CET
DTSTART:20261025T010000
END:STANDARD
END:VTIMEZONE
BEGIN:VEVENT
DTSTART;TZID=Europe/Berlin:20250928T151500
DTEND;TZID=Europe/Berlin:20250928T161500
DTSTAMP:20260423T005059
CREATED:20250626T093900Z
LAST-MODIFIED:20250626T093900Z
UID:38368-1759072500-1759076100@badbocklet.de
SUMMARY:Öffentliche Führung "Rhöner Land und Leute"
DESCRIPTION:Die inszenierten Wohn- und Arbeitsräume im Volkskundemuseum geben einen Einblick in den Alltag der früheren Rhönbewohnerinnen und -bewohner. Was damals in den Stuben auf den Tisch kam\, wie die Alltags- und Festtagskleidung aussah und welche Feste man feierte\, erfahren Sie bei einem Rundgang. \nDie öffentliche Führung dauert eine Stunde. Die Teilnahme ist kostenfrei\, es ist lediglich der Museumseintritt zu entrichten. Interessierte können sich unter  09708/704188-20 oder  schloss.aschach@bezirk-unterfranken.de anmelden.
URL:https://badbocklet.de/event/oeffentliche-fuehrung-rhoener-land-und-leute-4/
LOCATION:Museen Schloss Aschach\, Schloßstraße 24\, Aschach\, 97708\, Deutschland
CATEGORIES:Gemeinde,Tourismus
ATTACH;FMTTYPE=image/jpeg:https://badbocklet.de/wp-content/uploads/01-RhoenerLandUndLeute-Museen-Schloss-Aschach-Foto-Gerhard-Nixdorf.jpg
ORGANIZER;CN="Museen Schloss Aschach":MAILTO:schloss.aschach@bezirk-unterfranken.de
END:VEVENT
END:VCALENDAR