BEGIN:VCALENDAR
VERSION:2.0
PRODID:-//Bad Bocklet - ECPv6.15.19//NONSGML v1.0//EN
CALSCALE:GREGORIAN
METHOD:PUBLISH
X-WR-CALNAME:Bad Bocklet
X-ORIGINAL-URL:https://badbocklet.de
X-WR-CALDESC:Veranstaltungen für Bad Bocklet
REFRESH-INTERVAL;VALUE=DURATION:PT1H
X-Robots-Tag:noindex
X-PUBLISHED-TTL:PT1H
BEGIN:VTIMEZONE
TZID:Europe/Berlin
BEGIN:DAYLIGHT
TZOFFSETFROM:+0100
TZOFFSETTO:+0200
TZNAME:CEST
DTSTART:20240331T010000
END:DAYLIGHT
BEGIN:STANDARD
TZOFFSETFROM:+0200
TZOFFSETTO:+0100
TZNAME:CET
DTSTART:20241027T010000
END:STANDARD
BEGIN:DAYLIGHT
TZOFFSETFROM:+0100
TZOFFSETTO:+0200
TZNAME:CEST
DTSTART:20250330T010000
END:DAYLIGHT
BEGIN:STANDARD
TZOFFSETFROM:+0200
TZOFFSETTO:+0100
TZNAME:CET
DTSTART:20251026T010000
END:STANDARD
BEGIN:DAYLIGHT
TZOFFSETFROM:+0100
TZOFFSETTO:+0200
TZNAME:CEST
DTSTART:20260329T010000
END:DAYLIGHT
BEGIN:STANDARD
TZOFFSETFROM:+0200
TZOFFSETTO:+0100
TZNAME:CET
DTSTART:20261025T010000
END:STANDARD
END:VTIMEZONE
BEGIN:VEVENT
DTSTART;TZID=Europe/Berlin:20250831T151500
DTEND;TZID=Europe/Berlin:20250831T161500
DTSTAMP:20260423T020705
CREATED:20250206T113931Z
LAST-MODIFIED:20250206T115802Z
UID:36970-1756653300-1756656900@badbocklet.de
SUMMARY:Öffentliche Führung "Aufgemerkt"
DESCRIPTION:Im Schulmuseum der Museen Schloss Aschach können Sie sehen und erleben\, wie in den Einklassenschulen einst gelernt wurde.  \nDas einstündige Programm beginnt mit einer Führung durch das Schulmuseum: Welche Fächer standen früher auf dem Lehrplan und welche Materialien setzten die Lehrkräfte ein? Nach dem kurzen Einblick läutet das Schulfräulein die historische Schulstunde ein. Gemeinsam schreiben Sie mit Griffel in altdeutscher Schrift auf die ausliegenden Schiefertafeln oder lösen unter dem strengen Blick des Schulfräuleins kniffelige Rechenaufgaben. \nDas Programm richtet sich an Erwachsene und Kinder. \nDie Teilnahme ist kostenfrei\, es ist lediglich der Museumseintritt zu entrichten. Interessierte können sich unter  09708/704188-20 oder  schloss.aschach@bezirk-unterfranken.de anmelden.
URL:https://badbocklet.de/event/oeffentliche-fuehrung-aufgemerkt-3/
LOCATION:Museen Schloss Aschach\, Schloßstraße 24\, Aschach\, 97708\, Deutschland
CATEGORIES:Gemeinde,Tourismus
ATTACH;FMTTYPE=image/jpeg:https://badbocklet.de/wp-content/uploads/Schulmuseum-Schulsaal-Jens-Englert.jpg
ORGANIZER;CN="Museen Schloss Aschach":MAILTO:schloss.aschach@bezirk-unterfranken.de
END:VEVENT
END:VCALENDAR