BEGIN:VCALENDAR
VERSION:2.0
PRODID:-//Bad Bocklet - ECPv6.15.19//NONSGML v1.0//EN
CALSCALE:GREGORIAN
METHOD:PUBLISH
X-WR-CALNAME:Bad Bocklet
X-ORIGINAL-URL:https://badbocklet.de
X-WR-CALDESC:Veranstaltungen für Bad Bocklet
REFRESH-INTERVAL;VALUE=DURATION:PT1H
X-Robots-Tag:noindex
X-PUBLISHED-TTL:PT1H
BEGIN:VTIMEZONE
TZID:Europe/Berlin
BEGIN:DAYLIGHT
TZOFFSETFROM:+0100
TZOFFSETTO:+0200
TZNAME:CEST
DTSTART:20240331T010000
END:DAYLIGHT
BEGIN:STANDARD
TZOFFSETFROM:+0200
TZOFFSETTO:+0100
TZNAME:CET
DTSTART:20241027T010000
END:STANDARD
BEGIN:DAYLIGHT
TZOFFSETFROM:+0100
TZOFFSETTO:+0200
TZNAME:CEST
DTSTART:20250330T010000
END:DAYLIGHT
BEGIN:STANDARD
TZOFFSETFROM:+0200
TZOFFSETTO:+0100
TZNAME:CET
DTSTART:20251026T010000
END:STANDARD
BEGIN:DAYLIGHT
TZOFFSETFROM:+0100
TZOFFSETTO:+0200
TZNAME:CEST
DTSTART:20260329T010000
END:DAYLIGHT
BEGIN:STANDARD
TZOFFSETFROM:+0200
TZOFFSETTO:+0100
TZNAME:CET
DTSTART:20261025T010000
END:STANDARD
END:VTIMEZONE
BEGIN:VEVENT
DTSTART;TZID=Europe/Berlin:20251220T130000
DTEND;TZID=Europe/Berlin:20251220T150000
DTSTAMP:20260422T204030
CREATED:20250429T103622Z
LAST-MODIFIED:20251120T111407Z
UID:37874-1766235600-1766242800@badbocklet.de
SUMMARY:Mit dem Herzen heilen - Stärke in den Bruchstellen entdecken
DESCRIPTION:Ein kraftvoller Workshop über Verletzlichkeit\, Selbstmitgefühl und die Schönheit des Neuanfangs \nManchmal tragen wir ungesagte Geschichten in uns – alte Wunden\, gebrochene Träume\, leise Enttäuschungen. Sie begleiten uns\, oft unbemerkt\, und lassen das Herz schwer werden. In diesem Workshop darfst Du hinschauen. In einem achtsamen\, kreativen Ritual sammelst Du die Bruchstücke Deiner Erfahrungen und beginnst\, sie mit dem inneren Gold zusammenzufügen. Wie in der japanischen Kunst des Kintsugi entsteht aus dem was einmal zerbrach\, etwas Wertvolleres. \nEin geschützter Raum für Dein Herz. Ein Ort für Heilung\, Verbindung und neue Kraft. \nDieser Workshop ist für Dich\, wenn… \n– Du emotionalen Ballast loslassen willst\n– Du Dich mit Deiner Geschichte versöhnen möchtest\n– Du Resilienz als etwas Sanftes\, aber Kraftvolles erleben willst \nPro Person 15\,- Euro  mit Gästekarte 13\,- Euro + Materialkosten pro Person 30 Euro (wir arbeiten mit einem Keramikherz) \nAnmeldung bei Bianca Rittelmeier unter  0156-78458182\, auch gerne über WhatsApp sowie über  ht@rittelmeier.de
URL:https://badbocklet.de/event/mit-dem-herzen-heilen-staerke-in-den-bruchstellen-entdecken/
LOCATION:Tagungsraum\, Bad Bocklet\, 97708\, Deutschland
CATEGORIES:Gemeinde,Tourismus
ATTACH;FMTTYPE=image/jpeg:https://badbocklet.de/wp-content/uploads/heart-7004820-1280.jpg
END:VEVENT
END:VCALENDAR