BEGIN:VCALENDAR
VERSION:2.0
PRODID:-//Bad Bocklet - ECPv6.15.19//NONSGML v1.0//EN
CALSCALE:GREGORIAN
METHOD:PUBLISH
X-WR-CALNAME:Bad Bocklet
X-ORIGINAL-URL:https://badbocklet.de
X-WR-CALDESC:Veranstaltungen für Bad Bocklet
REFRESH-INTERVAL;VALUE=DURATION:PT1H
X-Robots-Tag:noindex
X-PUBLISHED-TTL:PT1H
BEGIN:VTIMEZONE
TZID:Europe/Berlin
BEGIN:DAYLIGHT
TZOFFSETFROM:+0100
TZOFFSETTO:+0200
TZNAME:CEST
DTSTART:20240331T010000
END:DAYLIGHT
BEGIN:STANDARD
TZOFFSETFROM:+0200
TZOFFSETTO:+0100
TZNAME:CET
DTSTART:20241027T010000
END:STANDARD
BEGIN:DAYLIGHT
TZOFFSETFROM:+0100
TZOFFSETTO:+0200
TZNAME:CEST
DTSTART:20250330T010000
END:DAYLIGHT
BEGIN:STANDARD
TZOFFSETFROM:+0200
TZOFFSETTO:+0100
TZNAME:CET
DTSTART:20251026T010000
END:STANDARD
BEGIN:DAYLIGHT
TZOFFSETFROM:+0100
TZOFFSETTO:+0200
TZNAME:CEST
DTSTART:20260329T010000
END:DAYLIGHT
BEGIN:STANDARD
TZOFFSETFROM:+0200
TZOFFSETTO:+0100
TZNAME:CET
DTSTART:20261025T010000
END:STANDARD
END:VTIMEZONE
BEGIN:VEVENT
DTSTART;TZID=Europe/Berlin:20251108T183000
DTEND;TZID=Europe/Berlin:20251108T213000
DTSTAMP:20260422T215104
CREATED:20250630T111837Z
LAST-MODIFIED:20250630T111837Z
UID:38401-1762626600-1762637400@badbocklet.de
SUMMARY:Kurs "Räuchern mit Kräutern"
DESCRIPTION:Entdecke die Kraft des Räucherns mit heimischen Wildkräutern und die Herstellung von Räucherwerk. \nJede Pflanze hat auch beim Verräuchern seine Wirkung. Hier kannst du sie einfach auf dich wirken und die Seele baumeln lassen oder den Umgang mit den Kräutern\, u. a. in der Personenräucherung erlernen. \nAnmeldung bei Katja Reith wird unter:\n 09708 704399\n my-gruen@gmx.de
URL:https://badbocklet.de/event/kurs-raeuchern-mit-kraeutern-4/
LOCATION:Tagungsraum\, Bad Bocklet\, 97708\, Deutschland
CATEGORIES:Gemeinde,Tourismus
ATTACH;FMTTYPE=image/jpeg:https://badbocklet.de/wp-content/uploads/Raeucherkugeln-1.jpg
END:VEVENT
END:VCALENDAR