BEGIN:VCALENDAR
VERSION:2.0
PRODID:-//Bad Bocklet - ECPv6.15.19//NONSGML v1.0//EN
CALSCALE:GREGORIAN
METHOD:PUBLISH
X-WR-CALNAME:Bad Bocklet
X-ORIGINAL-URL:https://badbocklet.de
X-WR-CALDESC:Veranstaltungen für Bad Bocklet
REFRESH-INTERVAL;VALUE=DURATION:PT1H
X-Robots-Tag:noindex
X-PUBLISHED-TTL:PT1H
BEGIN:VTIMEZONE
TZID:Europe/Berlin
BEGIN:DAYLIGHT
TZOFFSETFROM:+0100
TZOFFSETTO:+0200
TZNAME:CEST
DTSTART:20240331T010000
END:DAYLIGHT
BEGIN:STANDARD
TZOFFSETFROM:+0200
TZOFFSETTO:+0100
TZNAME:CET
DTSTART:20241027T010000
END:STANDARD
BEGIN:DAYLIGHT
TZOFFSETFROM:+0100
TZOFFSETTO:+0200
TZNAME:CEST
DTSTART:20250330T010000
END:DAYLIGHT
BEGIN:STANDARD
TZOFFSETFROM:+0200
TZOFFSETTO:+0100
TZNAME:CET
DTSTART:20251026T010000
END:STANDARD
BEGIN:DAYLIGHT
TZOFFSETFROM:+0100
TZOFFSETTO:+0200
TZNAME:CEST
DTSTART:20260329T010000
END:DAYLIGHT
BEGIN:STANDARD
TZOFFSETFROM:+0200
TZOFFSETTO:+0100
TZNAME:CET
DTSTART:20261025T010000
END:STANDARD
END:VTIMEZONE
BEGIN:VEVENT
DTSTART;TZID=Europe/Berlin:20250526T170000
DTEND;TZID=Europe/Berlin:20250526T183000
DTSTAMP:20260422T181318
CREATED:20250404T085859Z
LAST-MODIFIED:20250404T085859Z
UID:37584-1748278800-1748284200@badbocklet.de
SUMMARY:KÜNSTLICHE INTELLIGENZ (KI) – CHANCEN UND RISIKEN  (251-13052KB)
DESCRIPTION:In unserem Vortrag bieten wir einen Einblick in die Welt der künstlichen Intelligenz (KI). Wir erklären ihre Funktionsweise und die zugrundeliegenden Technologien. Zudem zeigen wir Anwendungen von KI in verschiedenen Bereichen des täglichen Lebens auf und gehen auch auf mögliche Risiken und Herausforderungen ein. \nBayernLab Bad Neustadt \nAnmeldung über Anmeldeformular:\nAnmeldeformular VHS-Kurse \noder direkt über die Homepage \nkeine Gebühr – Anmeldung ist erforderlich \nAnsprechpartnerin:\nFrau Christa Bauer\n 09708912227\n vorzimmer@bad.bocklet.de
URL:https://badbocklet.de/event/kuenstliche-intelligenz-ki-chancen-und-risiken-251-13052kb/
LOCATION:Rathaus Bad Bocklet\, Kleinfeldlein 14\, Bad Bocklet\, Bayern\, 97708\, Deutschland
CATEGORIES:Gemeinde,Tourismus
ATTACH;FMTTYPE=image/png:https://badbocklet.de/wp-content/uploads/vhs-logoallgemein-002.png
ORGANIZER;CN="Volkshochschule Bad Kissingen und Hammelburg - VHS":MAILTO:volkshochschule@badbocklet.de
GEO:50.269003;10.0728315
X-APPLE-STRUCTURED-LOCATION;VALUE=URI;X-ADDRESS=Rathaus Bad Bocklet Kleinfeldlein 14 Bad Bocklet Bayern 97708 Deutschland;X-APPLE-RADIUS=500;X-TITLE=Kleinfeldlein 14:geo:10.0728315,50.269003
END:VEVENT
END:VCALENDAR