BEGIN:VCALENDAR
VERSION:2.0
PRODID:-//Bad Bocklet - ECPv6.15.19//NONSGML v1.0//EN
CALSCALE:GREGORIAN
METHOD:PUBLISH
X-WR-CALNAME:Bad Bocklet
X-ORIGINAL-URL:https://badbocklet.de
X-WR-CALDESC:Veranstaltungen für Bad Bocklet
REFRESH-INTERVAL;VALUE=DURATION:PT1H
X-Robots-Tag:noindex
X-PUBLISHED-TTL:PT1H
BEGIN:VTIMEZONE
TZID:Europe/Berlin
BEGIN:DAYLIGHT
TZOFFSETFROM:+0100
TZOFFSETTO:+0200
TZNAME:CEST
DTSTART:20240331T010000
END:DAYLIGHT
BEGIN:STANDARD
TZOFFSETFROM:+0200
TZOFFSETTO:+0100
TZNAME:CET
DTSTART:20241027T010000
END:STANDARD
BEGIN:DAYLIGHT
TZOFFSETFROM:+0100
TZOFFSETTO:+0200
TZNAME:CEST
DTSTART:20250330T010000
END:DAYLIGHT
BEGIN:STANDARD
TZOFFSETFROM:+0200
TZOFFSETTO:+0100
TZNAME:CET
DTSTART:20251026T010000
END:STANDARD
BEGIN:DAYLIGHT
TZOFFSETFROM:+0100
TZOFFSETTO:+0200
TZNAME:CEST
DTSTART:20260329T010000
END:DAYLIGHT
BEGIN:STANDARD
TZOFFSETFROM:+0200
TZOFFSETTO:+0100
TZNAME:CET
DTSTART:20261025T010000
END:STANDARD
END:VTIMEZONE
BEGIN:VEVENT
DTSTART;TZID=Europe/Berlin:20251217T183000
DTEND;TZID=Europe/Berlin:20251217T203000
DTSTAMP:20260422T201908
CREATED:20250626T122322Z
LAST-MODIFIED:20251006T140931Z
UID:38372-1765996200-1766003400@badbocklet.de
SUMMARY:Unterhaltung
DESCRIPTION:mit dem Musik- und Heimatverein Katzenbach \nDer Musik- und Heimatverein Katzenbach e.V. wurde im Jahr 1980 gegründet.\nEr versteht sich als örtlicher Kulturträger und setzt seinen Schwerpunkt auf die Ausbildung junger Menschen im musikalischen Bereich. \nDie musikalische Ausrichtung reicht von der fränkischen Volksmusik über die traditionelle böhmische Blasmusik bis hin zur sinfonischen Blasmusik.
URL:https://badbocklet.de/event/konzert/
LOCATION:HESCURO KLINIK Bad Bocklet\, Frankenstraße 36\, Bad Bocklet\, 97708\, Deutschland
CATEGORIES:Gemeinde,Tourismus
ATTACH;FMTTYPE=image/jpeg:https://badbocklet.de/wp-content/uploads/MHV-Katzenbach-2024.jpg
GEO:50.2708001;10.0804501
X-APPLE-STRUCTURED-LOCATION;VALUE=URI;X-ADDRESS=HESCURO KLINIK Bad Bocklet Frankenstraße 36 Bad Bocklet 97708 Deutschland;X-APPLE-RADIUS=500;X-TITLE=Frankenstraße 36:geo:10.0804501,50.2708001
END:VEVENT
END:VCALENDAR