BEGIN:VCALENDAR
VERSION:2.0
PRODID:-//Bad Bocklet - ECPv6.15.19//NONSGML v1.0//EN
CALSCALE:GREGORIAN
METHOD:PUBLISH
X-WR-CALNAME:Bad Bocklet
X-ORIGINAL-URL:https://badbocklet.de
X-WR-CALDESC:Veranstaltungen für Bad Bocklet
REFRESH-INTERVAL;VALUE=DURATION:PT1H
X-Robots-Tag:noindex
X-PUBLISHED-TTL:PT1H
BEGIN:VTIMEZONE
TZID:Europe/Berlin
BEGIN:DAYLIGHT
TZOFFSETFROM:+0100
TZOFFSETTO:+0200
TZNAME:CEST
DTSTART:20240331T010000
END:DAYLIGHT
BEGIN:STANDARD
TZOFFSETFROM:+0200
TZOFFSETTO:+0100
TZNAME:CET
DTSTART:20241027T010000
END:STANDARD
BEGIN:DAYLIGHT
TZOFFSETFROM:+0100
TZOFFSETTO:+0200
TZNAME:CEST
DTSTART:20250330T010000
END:DAYLIGHT
BEGIN:STANDARD
TZOFFSETFROM:+0200
TZOFFSETTO:+0100
TZNAME:CET
DTSTART:20251026T010000
END:STANDARD
BEGIN:DAYLIGHT
TZOFFSETFROM:+0100
TZOFFSETTO:+0200
TZNAME:CEST
DTSTART:20260329T010000
END:DAYLIGHT
BEGIN:STANDARD
TZOFFSETFROM:+0200
TZOFFSETTO:+0100
TZNAME:CET
DTSTART:20261025T010000
END:STANDARD
END:VTIMEZONE
BEGIN:VEVENT
DTSTART;TZID=Europe/Berlin:20250525T153000
DTEND;TZID=Europe/Berlin:20250525T170000
DTSTAMP:20260422T175445
CREATED:20241111T111630Z
LAST-MODIFIED:20241111T111630Z
UID:35257-1748187000-1748192400@badbocklet.de
SUMMARY:Konzert
DESCRIPTION:mit der Jugendblaskapelle Scholz aus Geroda \nDas Orchester besteht aus Jugendlichen und jung gebliebenen Erwachsenen im Alter zwischen 13 und 54 Jahren. Die meisten Aktiven kommen aus Geroda und dem Ortsteil Platz: Aber auch aus Singenrain\, Schönderling\, Stralsbach\, Bad Kissingen und Bad Brückenau haben Musikbegeisterte den Weg in das Orchester gefunden. \nDas Hauptorchester mit über 50 Musikerinnen und Musikern ist das musikalisches Aushängeschild. Daneben haben sich auch Musiker zu kleineren Musikgruppen zusammen geschlossen. Somit ist das Orchester in der glücklichen Lage\, für nahezu jede Art von Veranstaltung die richtige Besetzung anbieten zu können. \nDas Orchester hat in seinem Programm die unterschiedlichsten Musikrichtungen zu bieten. Angefangen von böhmisch-bayerischen Klängen\, weiter über Swing und Bigbandsound\, zeitgemäße Unterhaltungsmusik bis hin zu Musicals\, Pop\, Rock und verschiedenen Gesangsnummern. Lockere Moderation und witzige Beiträge runden die musikalische Darbietung ab und animieren das Publikum zum Mitmachen.
URL:https://badbocklet.de/event/konzert-89/
LOCATION:Kursaal
CATEGORIES:Gemeinde,Tourismus
ATTACH;FMTTYPE=image/jpeg:https://badbocklet.de/wp-content/uploads/Jugendblasorchester-Scholz-1-c-Markus-Fay.jpg
GEO:50.2656951;10.0775505
END:VEVENT
END:VCALENDAR