BEGIN:VCALENDAR
VERSION:2.0
PRODID:-//Bad Bocklet - ECPv6.15.19//NONSGML v1.0//EN
CALSCALE:GREGORIAN
METHOD:PUBLISH
X-WR-CALNAME:Bad Bocklet
X-ORIGINAL-URL:https://badbocklet.de
X-WR-CALDESC:Veranstaltungen für Bad Bocklet
REFRESH-INTERVAL;VALUE=DURATION:PT1H
X-Robots-Tag:noindex
X-PUBLISHED-TTL:PT1H
BEGIN:VTIMEZONE
TZID:Europe/Berlin
BEGIN:DAYLIGHT
TZOFFSETFROM:+0100
TZOFFSETTO:+0200
TZNAME:CEST
DTSTART:20240331T010000
END:DAYLIGHT
BEGIN:STANDARD
TZOFFSETFROM:+0200
TZOFFSETTO:+0100
TZNAME:CET
DTSTART:20241027T010000
END:STANDARD
BEGIN:DAYLIGHT
TZOFFSETFROM:+0100
TZOFFSETTO:+0200
TZNAME:CEST
DTSTART:20250330T010000
END:DAYLIGHT
BEGIN:STANDARD
TZOFFSETFROM:+0200
TZOFFSETTO:+0100
TZNAME:CET
DTSTART:20251026T010000
END:STANDARD
BEGIN:DAYLIGHT
TZOFFSETFROM:+0100
TZOFFSETTO:+0200
TZNAME:CEST
DTSTART:20260329T010000
END:DAYLIGHT
BEGIN:STANDARD
TZOFFSETFROM:+0200
TZOFFSETTO:+0100
TZNAME:CET
DTSTART:20261025T010000
END:STANDARD
END:VTIMEZONE
BEGIN:VEVENT
DTSTART;TZID=Europe/Berlin:20251026T143000
DTEND;TZID=Europe/Berlin:20251026T160000
DTSTAMP:20260422T231434
CREATED:20241021T090456Z
LAST-MODIFIED:20250827T115905Z
UID:34879-1761489000-1761494400@badbocklet.de
SUMMARY:Konzert
DESCRIPTION:der Bretforton Silver Band aus England \nMusik schlägt Brücken zwischen Vereinen\, Ländern und Menschen. \nEin Beweis dafür\, ist die seit 1981 bestehende Verbindung der Bretforton Silver Band (Mittelengland) und der Musikkapelle Löhrieth e.V.  (Stadtteil von Bad Neustadt/S.).\nZum 11. Mal besucht das englische Orchester aus Bretforton\, einem Ort mit ca. 1000 Einwohnern in der Nähe von Birmingham\, mit ihren ca. 30 Musikern ihre Musikfreunde in Löhrieth.\nDas 1890 gegründete englische Orchester unter der Leitung ihres Dirigenten Paul Wood gibt Konzerte und nimmt an Paraden und Wertungsspielen teil.\nEin besonderes Highlight begab sich im Jahre 2006\, als die englische Königin in einem Brief/Urkunde zum 25-jährigem Jubiläum der völkerverbindend Freundschaft zwischen der Bretforton Silver Band und der Musikkapelle Löhrieth e.V. ihre Glückwünsche aussprach.\nIm Oktober 2025 feiern beide Kapellen\, das 44jährige Bestehen dieser Freundschaft.\nSo bewahrheitet sich der Spruch erneut: „Musik kennt keine Grenzen“ \nWährend ihres Deutschlandbesuchs macht die Bretforton Silver Band auch Halt in Bad Bocklet und sorgt für musikalische Unterhaltung.
URL:https://badbocklet.de/event/konzert-80/
LOCATION:Kursaal
CATEGORIES:Gemeinde,Tourismus
ATTACH;FMTTYPE=image/jpeg:https://badbocklet.de/wp-content/uploads/BSB-Image-1.jpg
GEO:50.2656951;10.0775505
END:VEVENT
END:VCALENDAR