BEGIN:VCALENDAR
VERSION:2.0
PRODID:-//Bad Bocklet - ECPv6.15.19//NONSGML v1.0//EN
CALSCALE:GREGORIAN
METHOD:PUBLISH
X-WR-CALNAME:Bad Bocklet
X-ORIGINAL-URL:https://badbocklet.de
X-WR-CALDESC:Veranstaltungen für Bad Bocklet
REFRESH-INTERVAL;VALUE=DURATION:PT1H
X-Robots-Tag:noindex
X-PUBLISHED-TTL:PT1H
BEGIN:VTIMEZONE
TZID:Europe/Berlin
BEGIN:DAYLIGHT
TZOFFSETFROM:+0100
TZOFFSETTO:+0200
TZNAME:CEST
DTSTART:20240331T010000
END:DAYLIGHT
BEGIN:STANDARD
TZOFFSETFROM:+0200
TZOFFSETTO:+0100
TZNAME:CET
DTSTART:20241027T010000
END:STANDARD
BEGIN:DAYLIGHT
TZOFFSETFROM:+0100
TZOFFSETTO:+0200
TZNAME:CEST
DTSTART:20250330T010000
END:DAYLIGHT
BEGIN:STANDARD
TZOFFSETFROM:+0200
TZOFFSETTO:+0100
TZNAME:CET
DTSTART:20251026T010000
END:STANDARD
BEGIN:DAYLIGHT
TZOFFSETFROM:+0100
TZOFFSETTO:+0200
TZNAME:CEST
DTSTART:20260329T010000
END:DAYLIGHT
BEGIN:STANDARD
TZOFFSETFROM:+0200
TZOFFSETTO:+0100
TZNAME:CET
DTSTART:20261025T010000
END:STANDARD
END:VTIMEZONE
BEGIN:VEVENT
DTSTART;TZID=Europe/Berlin:20250830T193000
DTEND;TZID=Europe/Berlin:20250830T230000
DTSTAMP:20260423T020211
CREATED:20250129T095342Z
LAST-MODIFIED:20250721T122503Z
UID:36364-1756582200-1756594800@badbocklet.de
SUMMARY:Gartenparty
DESCRIPTION:Die Vorfreude steigt\, denn auch in diesem Jahr findet wieder die traditionelle Gartenparty in Bad Bocklet statt. Im traumhaften Ambiente des idyllischen Kurparks erwartet die Besucher am Samstag\, den 30. August 2025\, ein besonderes Highlight. \n„Wir freuen uns\, unseren Gästen wieder einen unvergesslichen Abend in Bad Bocklet bieten zu können“\, so erster Bürgermeister Andreas Sandwall. \nAb 19:30 Uhr sorgt die „DREIMANNBAND“ für ausgelassene Stimmung. Mit Hits aus allen Jahrzehnten laden sie an diesem Abend zum Tanzen und Mitsingen ein. \nDer Höhepunkt des Abends ist die eindrucksvolle Illumination des Kurparks. Sobald die Dämmerung einsetzt\, erstrahlt der Kurpark in den buntesten Farben und Lichtern\, wodurch ein einzigartiges\, romantisches Flair entsteht. \n„Wir sind stolz darauf\, den Besuchern wieder ein fantastisches Erlebnis bieten zu können“\, so Kurdirektor Thomas Beck. \nProgrammübersicht: \n\n19:30 Uhr: Unterhaltung mit der DREIMANNBAND\nAb Dämmerung: Illumination des Kurparks
URL:https://badbocklet.de/event/gartenparty-5/
LOCATION:Kurpark
CATEGORIES:Gemeinde,Tourismus
ATTACH;FMTTYPE=image/jpeg:https://badbocklet.de/wp-content/uploads/02-Gartenparty-2023-c-Staatsbad-und-Touristik-Bad-Bocklet-GmbH.jpg
END:VEVENT
END:VCALENDAR