BEGIN:VCALENDAR
VERSION:2.0
PRODID:-//Bad Bocklet - ECPv6.15.19//NONSGML v1.0//EN
CALSCALE:GREGORIAN
METHOD:PUBLISH
X-WR-CALNAME:Bad Bocklet
X-ORIGINAL-URL:https://badbocklet.de
X-WR-CALDESC:Veranstaltungen für Bad Bocklet
REFRESH-INTERVAL;VALUE=DURATION:PT1H
X-Robots-Tag:noindex
X-PUBLISHED-TTL:PT1H
BEGIN:VTIMEZONE
TZID:Europe/Berlin
BEGIN:DAYLIGHT
TZOFFSETFROM:+0100
TZOFFSETTO:+0200
TZNAME:CEST
DTSTART:20240331T010000
END:DAYLIGHT
BEGIN:STANDARD
TZOFFSETFROM:+0200
TZOFFSETTO:+0100
TZNAME:CET
DTSTART:20241027T010000
END:STANDARD
BEGIN:DAYLIGHT
TZOFFSETFROM:+0100
TZOFFSETTO:+0200
TZNAME:CEST
DTSTART:20250330T010000
END:DAYLIGHT
BEGIN:STANDARD
TZOFFSETFROM:+0200
TZOFFSETTO:+0100
TZNAME:CET
DTSTART:20251026T010000
END:STANDARD
BEGIN:DAYLIGHT
TZOFFSETFROM:+0100
TZOFFSETTO:+0200
TZNAME:CEST
DTSTART:20260329T010000
END:DAYLIGHT
BEGIN:STANDARD
TZOFFSETFROM:+0200
TZOFFSETTO:+0100
TZNAME:CET
DTSTART:20261025T010000
END:STANDARD
END:VTIMEZONE
BEGIN:VEVENT
DTSTART;TZID=Europe/Berlin:20250621T190000
DTEND;TZID=Europe/Berlin:20250621T213000
DTSTAMP:20260422T151629
CREATED:20241111T121036Z
LAST-MODIFIED:20250127T143056Z
UID:35263-1750532400-1750541400@badbocklet.de
SUMMARY:Frauenabend "Wild & Frey" - Sommersonnenwende
DESCRIPTION:mit Katja Reith \nLasst uns das Licht an diesem Abend des längsten Tages im Jahr feiern… Ein Abend in der Natur für Frauen voll mit Selbstfürsorge\, Kreativität\, Frauenkräuter\, Spiritualität\, Tanz uvm… \nSich begegnen\, Mutter Natur genießen\, sich austauschen\, zusammen kreativ sein\, die eigene Spiritualität & Herzenergie erleben\, frei sein… So sein\, wie du bist! \nWir werden mit den Frauenkräutern kreativ sein\, tanzen und spüren. Ziel des Abends ist\, ganz bei dir selbst anzukommen & deine Schöpferkraft wahrzunehmen. \nBitte mitbringen: Sitzkissen oder Decke für draußen \nOrt der Veranstaltung: Bad Bocklet in der Natur (genauer bei Anmeldung) \nUm Voranmeldung wird gebeten unter:\n 09708 704399\n my-gruen@gmx.de
URL:https://badbocklet.de/event/frauenabend-wild-frey-3/
CATEGORIES:Gemeinde,Tourismus
ATTACH;FMTTYPE=image/avif:https://badbocklet.de/wp-content/uploads/Ryan-Moreno-Unsplash-scaled.avif
END:VEVENT
END:VCALENDAR