BEGIN:VCALENDAR
VERSION:2.0
PRODID:-//Bad Bocklet - ECPv6.15.19//NONSGML v1.0//EN
CALSCALE:GREGORIAN
METHOD:PUBLISH
X-WR-CALNAME:Bad Bocklet
X-ORIGINAL-URL:https://badbocklet.de
X-WR-CALDESC:Veranstaltungen für Bad Bocklet
REFRESH-INTERVAL;VALUE=DURATION:PT1H
X-Robots-Tag:noindex
X-PUBLISHED-TTL:PT1H
BEGIN:VTIMEZONE
TZID:Europe/Berlin
BEGIN:DAYLIGHT
TZOFFSETFROM:+0100
TZOFFSETTO:+0200
TZNAME:CEST
DTSTART:20240331T010000
END:DAYLIGHT
BEGIN:STANDARD
TZOFFSETFROM:+0200
TZOFFSETTO:+0100
TZNAME:CET
DTSTART:20241027T010000
END:STANDARD
BEGIN:DAYLIGHT
TZOFFSETFROM:+0100
TZOFFSETTO:+0200
TZNAME:CEST
DTSTART:20250330T010000
END:DAYLIGHT
BEGIN:STANDARD
TZOFFSETFROM:+0200
TZOFFSETTO:+0100
TZNAME:CET
DTSTART:20251026T010000
END:STANDARD
BEGIN:DAYLIGHT
TZOFFSETFROM:+0100
TZOFFSETTO:+0200
TZNAME:CEST
DTSTART:20260329T010000
END:DAYLIGHT
BEGIN:STANDARD
TZOFFSETFROM:+0200
TZOFFSETTO:+0100
TZNAME:CET
DTSTART:20261025T010000
END:STANDARD
END:VTIMEZONE
BEGIN:VEVENT
DTSTART;TZID=Europe/Berlin:20251004T130000
DTEND;TZID=Europe/Berlin:20251004T150000
DTSTAMP:20260422T232619
CREATED:20250429T102612Z
LAST-MODIFIED:20250923T113028Z
UID:37870-1759582800-1759590000@badbocklet.de
SUMMARY:Emotionale Balance – Mit schwierigen Gefühlen umgehen
DESCRIPTION:Schwierige Emotionen wie Angst\, Wut oder Traurigkeit gehören zum Leben – aber sie müssen Dich nicht überwältigen.  \nIn diesem Workshop lernst Du\, wie Du einen gesunden Umgang mit Deinen Gefühlen findest. Wir erarbeiten\, wie Du emotionale Belastungen bewältigst und Deine innere Balance stärken kannst.  \nAnmeldung bei Bianca Rittelmeier unter  0156 78458182\, auch gerne über WhatsApp sowie über  ht@rittelmeier.de
URL:https://badbocklet.de/event/emotionale-balance-mit-schwierigen-gefuehlen-umgehen-2/
LOCATION:Tagungsraum\, Bad Bocklet\, 97708\, Deutschland
CATEGORIES:Gemeinde,Tourismus
ATTACH;FMTTYPE=image/jpeg:https://badbocklet.de/wp-content/uploads/Angts-Wut-Traurigkeit.jpg
END:VEVENT
END:VCALENDAR