BEGIN:VCALENDAR
VERSION:2.0
PRODID:-//Bad Bocklet - ECPv6.15.19//NONSGML v1.0//EN
CALSCALE:GREGORIAN
METHOD:PUBLISH
X-WR-CALNAME:Bad Bocklet
X-ORIGINAL-URL:https://badbocklet.de
X-WR-CALDESC:Veranstaltungen für Bad Bocklet
REFRESH-INTERVAL;VALUE=DURATION:PT1H
X-Robots-Tag:noindex
X-PUBLISHED-TTL:PT1H
BEGIN:VTIMEZONE
TZID:Europe/Berlin
BEGIN:DAYLIGHT
TZOFFSETFROM:+0100
TZOFFSETTO:+0200
TZNAME:CEST
DTSTART:20240331T010000
END:DAYLIGHT
BEGIN:STANDARD
TZOFFSETFROM:+0200
TZOFFSETTO:+0100
TZNAME:CET
DTSTART:20241027T010000
END:STANDARD
BEGIN:DAYLIGHT
TZOFFSETFROM:+0100
TZOFFSETTO:+0200
TZNAME:CEST
DTSTART:20250330T010000
END:DAYLIGHT
BEGIN:STANDARD
TZOFFSETFROM:+0200
TZOFFSETTO:+0100
TZNAME:CET
DTSTART:20251026T010000
END:STANDARD
BEGIN:DAYLIGHT
TZOFFSETFROM:+0100
TZOFFSETTO:+0200
TZNAME:CEST
DTSTART:20260329T010000
END:DAYLIGHT
BEGIN:STANDARD
TZOFFSETFROM:+0200
TZOFFSETTO:+0100
TZNAME:CET
DTSTART:20261025T010000
END:STANDARD
END:VTIMEZONE
BEGIN:VEVENT
DTSTART;TZID=Europe/Berlin:20251013T190000
DTEND;TZID=Europe/Berlin:20251013T203000
DTSTAMP:20260419T151208
CREATED:20251002T125757Z
LAST-MODIFIED:20251007T060722Z
UID:39106-1760382000-1760387400@badbocklet.de
SUMMARY:DAS KÖNIGREICH SAUDI-ARABIEN (252-11029KB)
DESCRIPTION:Das Königreich Saudi-Arabien – ein lang verschlossenes Land hat sich dem Tourismus geöffnet \nIm Jahr 2015 versuchte Rudi Kleinhenz vergeblich\, ein Visum für Saudi-Arabien zu bekommen. Selbst das persönliche Erscheinen auf dem Konsulat in Frankfurt war ergebnislos. Umso einfacher war alles im Jahr 2023. Online-Visum-Beantragung\, Kreditkartenzahlung und 24 Stunden später war die Einreise perfekt. Mit einem Mietwagen mit Bodenfreiheit legten Gabi Goll und Rudi Kleinhenz über 6.000 km in diesem Land der endlosen Weiten zurück. Die Gastfreundschaft der Menschen ist schon fast erdrückend\, egal wo man hinkommt\, man wird zum Verweilen schon fast gezwungen. \nDas ganze Land ist voller beeindruckender Kultur- und Naturschätze. Die Skyline von Riad\, die uralten Felsentempel von Al Ula oder die spektakuläre Aussicht am „Edge oft he World“. Ein Superlativ jagt das nächste. Die heilige Stadt Medina\, für Nichtmoslime lange Zeit tabu\, ist nun auch für Touristen zugänglich. Nur die heiligste aller Städte\, Mekka ist immer noch absolute Verbotszone\, aber … \nReferent: Rudi Kleinhenz \nKostenfrei – Anmeldung erbeten \nAnmeldung über Anmeldeformular:\nAnmeldeformular VHS-Kurse \noder direkt über die Homepage \nAnsprechpartnerin:\nFrau Christa Bauer\n 09708912227\n vorzimmer@bad.bocklet.de
URL:https://badbocklet.de/event/das-koenigreich-saudi-arabien-252-11029kb/
LOCATION:HESCURO KLINIK Bad Bocklet\, Frankenstraße 36\, Bad Bocklet\, 97708\, Deutschland
CATEGORIES:Gemeinde,Tourismus
ATTACH;FMTTYPE=image/jpeg:https://badbocklet.de/wp-content/uploads/Saudi1-Kopie.jpg
GEO:50.2708001;10.0804501
X-APPLE-STRUCTURED-LOCATION;VALUE=URI;X-ADDRESS=HESCURO KLINIK Bad Bocklet Frankenstraße 36 Bad Bocklet 97708 Deutschland;X-APPLE-RADIUS=500;X-TITLE=Frankenstraße 36:geo:10.0804501,50.2708001
END:VEVENT
END:VCALENDAR