BEGIN:VCALENDAR
VERSION:2.0
PRODID:-//Bad Bocklet - ECPv6.15.19//NONSGML v1.0//EN
CALSCALE:GREGORIAN
METHOD:PUBLISH
X-WR-CALNAME:Bad Bocklet
X-ORIGINAL-URL:https://badbocklet.de
X-WR-CALDESC:Veranstaltungen für Bad Bocklet
REFRESH-INTERVAL;VALUE=DURATION:PT1H
X-Robots-Tag:noindex
X-PUBLISHED-TTL:PT1H
BEGIN:VTIMEZONE
TZID:Europe/Berlin
BEGIN:DAYLIGHT
TZOFFSETFROM:+0100
TZOFFSETTO:+0200
TZNAME:CEST
DTSTART:20230326T010000
END:DAYLIGHT
BEGIN:STANDARD
TZOFFSETFROM:+0200
TZOFFSETTO:+0100
TZNAME:CET
DTSTART:20231029T010000
END:STANDARD
BEGIN:DAYLIGHT
TZOFFSETFROM:+0100
TZOFFSETTO:+0200
TZNAME:CEST
DTSTART:20240331T010000
END:DAYLIGHT
BEGIN:STANDARD
TZOFFSETFROM:+0200
TZOFFSETTO:+0100
TZNAME:CET
DTSTART:20241027T010000
END:STANDARD
BEGIN:DAYLIGHT
TZOFFSETFROM:+0100
TZOFFSETTO:+0200
TZNAME:CEST
DTSTART:20250330T010000
END:DAYLIGHT
BEGIN:STANDARD
TZOFFSETFROM:+0200
TZOFFSETTO:+0100
TZNAME:CET
DTSTART:20251026T010000
END:STANDARD
END:VTIMEZONE
BEGIN:VEVENT
DTSTART;TZID=Europe/Berlin:20241028T190000
DTEND;TZID=Europe/Berlin:20241028T203000
DTSTAMP:20260423T074603
CREATED:20240728T094005Z
LAST-MODIFIED:20240731T102539Z
UID:34003-1730142000-1730147400@badbocklet.de
SUMMARY:Äthiopien und Sudan - Afrika auf seine spannendste Art
DESCRIPTION:Kurs Nr. 242-11029KB\nIn Addis Abeba beginnt dieser vorletzte Teil der Afrika-Umrundung von Gabi Goll und Rudi Kleinhenz im eigenen Toyota Landcruiser. Mit Globetrotter-Freunden aus Saarbrücken unternahm man eine organisierte Tour in die Danakil-Depression\, dem tiefsten Punkt Afrikas. Landschaften wie von fernen Welten empfingen die deutschen Reisenden. Der Vulkan-See Erta Ale ist eine Weltsensation. Axum\, der Ort an dem die Bundeslade aufbewahrt wird\, wurde ebenso besucht\, wie der Awash-Nationalpark. Dort musste man sich gegen eine Affenbande verteidigen. Auf dem Weg aus dem Park gab es einen üblen Rahmenschaden am Landcruiser\, der geschweißt werden musste. Dann trennten sich Gabi und Rudi von ihren Freunden und reisten in den Sudan weiter. Von Khartum aus flog Gabi nach Hause und ein Essener Globetrotter-Kumpel fuhr mit Rudi von hier bis nach Bad Kissingen. Aber das ist eine andere Geschichte. \nReferent: Rudi Kleinhenz\nOrt: HESCURO Klinik Bad Bocklet\nGebühr: keine \n\n	 zur Anmeldung für den VHS-Kurs
URL:https://badbocklet.de/event/aethiopien-und-sudan/
LOCATION:HESCURO KLINIK Bad Bocklet\, Frankenstraße 36\, Bad Bocklet\, 97708\, Deutschland
CATEGORIES:Gemeinde,Tourismus
ATTACH;FMTTYPE=image/jpeg:https://badbocklet.de/wp-content/uploads/aethiopien-Salzkarawane-in-der-Danakil-Depression.jpg
GEO:50.2708001;10.0804501
X-APPLE-STRUCTURED-LOCATION;VALUE=URI;X-ADDRESS=HESCURO KLINIK Bad Bocklet Frankenstraße 36 Bad Bocklet 97708 Deutschland;X-APPLE-RADIUS=500;X-TITLE=Frankenstraße 36:geo:10.0804501,50.2708001
END:VEVENT
END:VCALENDAR