BEGIN:VCALENDAR
VERSION:2.0
PRODID:-//Bad Bocklet - ECPv6.15.19//NONSGML v1.0//EN
CALSCALE:GREGORIAN
METHOD:PUBLISH
X-WR-CALNAME:Bad Bocklet
X-ORIGINAL-URL:https://badbocklet.de
X-WR-CALDESC:Veranstaltungen für Bad Bocklet
REFRESH-INTERVAL;VALUE=DURATION:PT1H
X-Robots-Tag:noindex
X-PUBLISHED-TTL:PT1H
BEGIN:VTIMEZONE
TZID:Europe/Berlin
BEGIN:DAYLIGHT
TZOFFSETFROM:+0100
TZOFFSETTO:+0200
TZNAME:CEST
DTSTART:20240331T010000
END:DAYLIGHT
BEGIN:STANDARD
TZOFFSETFROM:+0200
TZOFFSETTO:+0100
TZNAME:CET
DTSTART:20241027T010000
END:STANDARD
BEGIN:DAYLIGHT
TZOFFSETFROM:+0100
TZOFFSETTO:+0200
TZNAME:CEST
DTSTART:20250330T010000
END:DAYLIGHT
BEGIN:STANDARD
TZOFFSETFROM:+0200
TZOFFSETTO:+0100
TZNAME:CET
DTSTART:20251026T010000
END:STANDARD
BEGIN:DAYLIGHT
TZOFFSETFROM:+0100
TZOFFSETTO:+0200
TZNAME:CEST
DTSTART:20260329T010000
END:DAYLIGHT
BEGIN:STANDARD
TZOFFSETFROM:+0200
TZOFFSETTO:+0100
TZNAME:CET
DTSTART:20261025T010000
END:STANDARD
END:VTIMEZONE
BEGIN:VEVENT
DTSTART;TZID=Europe/Berlin:20250908T170000
DTEND;TZID=Europe/Berlin:20250908T180000
DTSTAMP:20260423T004522
CREATED:20241205T124834Z
LAST-MODIFIED:20250904T111601Z
UID:35679-1757350800-1757354400@badbocklet.de
SUMMARY:Ärztevortrag
DESCRIPTION:Rehabilitation bei Harninkontinenz – Aspekte und Behandlung \nReferent: Herr Dr. Douba – Ltd. OA Urologie\nder HESCURO KLINIK Bad Bocklet
URL:https://badbocklet.de/event/aerztevortrag-22/
LOCATION:Kursaal
CATEGORIES:Gemeinde,Tourismus
ATTACH;FMTTYPE=image/jpeg:https://badbocklet.de/wp-content/uploads/iStock-1277479637.jpg
GEO:50.2656951;10.0775505
END:VEVENT
END:VCALENDAR